BEGIN:VCALENDAR
VERSION:2.0
PRODID:-//River Valley Cycling - ECPv6.15.20//NONSGML v1.0//EN
CALSCALE:GREGORIAN
METHOD:PUBLISH
X-ORIGINAL-URL:https://rivervalleycycling.com
X-WR-CALDESC:Events for River Valley Cycling
REFRESH-INTERVAL;VALUE=DURATION:PT1H
X-Robots-Tag:noindex
X-PUBLISHED-TTL:PT1H
BEGIN:VTIMEZONE
TZID:America/Moncton
BEGIN:DAYLIGHT
TZOFFSETFROM:-0400
TZOFFSETTO:-0300
TZNAME:ADT
DTSTART:20160313T060000
END:DAYLIGHT
BEGIN:STANDARD
TZOFFSETFROM:-0300
TZOFFSETTO:-0400
TZNAME:AST
DTSTART:20161106T050000
END:STANDARD
BEGIN:DAYLIGHT
TZOFFSETFROM:-0400
TZOFFSETTO:-0300
TZNAME:ADT
DTSTART:20170312T060000
END:DAYLIGHT
BEGIN:STANDARD
TZOFFSETFROM:-0300
TZOFFSETTO:-0400
TZNAME:AST
DTSTART:20171105T050000
END:STANDARD
BEGIN:DAYLIGHT
TZOFFSETFROM:-0400
TZOFFSETTO:-0300
TZNAME:ADT
DTSTART:20180311T060000
END:DAYLIGHT
BEGIN:STANDARD
TZOFFSETFROM:-0300
TZOFFSETTO:-0400
TZNAME:AST
DTSTART:20181104T050000
END:STANDARD
END:VTIMEZONE
BEGIN:VEVENT
DTSTART;TZID=America/Moncton:20170522T093000
DTEND;TZID=America/Moncton:20170522T130000
DTSTAMP:20260424T002345
CREATED:20170510T221844Z
LAST-MODIFIED:20170518T184425Z
UID:1657-1495445400-1495458000@rivervalleycycling.com
SUMMARY:Trail Day - Minto
DESCRIPTION:Meeting place is at the end of the New England Settlement Road. We’ll walk 10 minutes into the work site and go until about 1 pm. We will have tools\, mostly picks and loppers. If you have trail building tools like picks\, rakes\, shovels\, mattocks\, hand saws\, loppers\, bring them along. Also bring gloves\, water\, appropriate clothing\, snacks if you need them. We’ll be working on trails for the Coal Miner’s Lung festival in June.
URL:https://rivervalleycycling.com/event/trail-day-minto/
LOCATION:Trailhead – New England Settlement Rd\, 279 New England Road\, New England Settlement\, NB\, Canada
CATEGORIES:Trail Day
END:VEVENT
BEGIN:VEVENT
DTSTART;TZID=America/Moncton:20170514T090000
DTEND;TZID=America/Moncton:20170514T130000
DTSTAMP:20260424T002345
CREATED:20170510T220758Z
LAST-MODIFIED:20170510T220758Z
UID:1655-1494752400-1494766800@rivervalleycycling.com
SUMMARY:Trail Day - Woolastook
DESCRIPTION:
URL:https://rivervalleycycling.com/event/trail-day-woolastook/
LOCATION:Woolastook Park\, Upper Kingsclear\, New Brunswick\, E3E 1P9\, Canada
CATEGORIES:Trail Day
END:VEVENT
END:VCALENDAR