BEGIN:VCALENDAR
VERSION:2.0
PRODID:-//River Valley Cycling - ECPv6.15.20//NONSGML v1.0//EN
CALSCALE:GREGORIAN
METHOD:PUBLISH
X-WR-CALNAME:River Valley Cycling
X-ORIGINAL-URL:https://rivervalleycycling.com
X-WR-CALDESC:Events for River Valley Cycling
REFRESH-INTERVAL;VALUE=DURATION:PT1H
X-Robots-Tag:noindex
X-PUBLISHED-TTL:PT1H
BEGIN:VTIMEZONE
TZID:America/Moncton
BEGIN:DAYLIGHT
TZOFFSETFROM:-0400
TZOFFSETTO:-0300
TZNAME:ADT
DTSTART:20160313T060000
END:DAYLIGHT
BEGIN:STANDARD
TZOFFSETFROM:-0300
TZOFFSETTO:-0400
TZNAME:AST
DTSTART:20161106T050000
END:STANDARD
BEGIN:DAYLIGHT
TZOFFSETFROM:-0400
TZOFFSETTO:-0300
TZNAME:ADT
DTSTART:20170312T060000
END:DAYLIGHT
BEGIN:STANDARD
TZOFFSETFROM:-0300
TZOFFSETTO:-0400
TZNAME:AST
DTSTART:20171105T050000
END:STANDARD
BEGIN:DAYLIGHT
TZOFFSETFROM:-0400
TZOFFSETTO:-0300
TZNAME:ADT
DTSTART:20180311T060000
END:DAYLIGHT
BEGIN:STANDARD
TZOFFSETFROM:-0300
TZOFFSETTO:-0400
TZNAME:AST
DTSTART:20181104T050000
END:STANDARD
END:VTIMEZONE
BEGIN:VEVENT
DTSTART;TZID=America/Moncton:20170611T073000
DTEND;TZID=America/Moncton:20170611T150000
DTSTAMP:20260424T035330
CREATED:20170607T131745Z
LAST-MODIFIED:20170607T131826Z
UID:1768-1497166200-1497193200@rivervalleycycling.com
SUMMARY:The Radical Edge - Gravel Grind for Special Olympics
DESCRIPTION:3rd Annual Gravel Grind on Sunday\, June 11\, 2017! \n*NEW VENUE* We are extremely happy and excited to announce that the new Host Venue for this years event will be at The Picaroon’s Roundhouse at 880 Union ST\, Fredericton\, NB! \nOnce again this is a fundrasing event for Special Olympics dedicated to bringing a group of fun\, friendly and adventurous people together… all for a great cause! \nThis event is intended to appeal to all types of riders; road\, mountain\, cyclocross and hybrids so hopefully by now you have the idea that this more of a celebration of cycling\, spring and the gathering of like minded individuals! \nThe Gravel Grind is prefect for all riders especially those who love to have a good challenge\, good food and good drinks. There will be a wrap-up social following the event at The Picaroon’s Roundhouse.  \nAs for the course itself\, it will have a variety of distances meant to challenge all levels of cyclists and the terrain well….as you can imagine… it will encompass a number of kilometres on multiuse trails (crusher dust)\, dirt roads as well as asphalt. \nFor event info: \nhttp://www.gravelgrindfredericton.com/event-info.html \nFacebook page: \nhttps://www.facebook.com/groups/1655268291361831/
URL:https://rivervalleycycling.com/event/the-radical-edge-gravel-grind-for-special-olympics/
LOCATION:Picaroons Roundhouse\, 880 Union Street\, Fredericton\, New Brunswick\, Canada
CATEGORIES:Single Event
END:VEVENT
END:VCALENDAR