BEGIN:VCALENDAR
VERSION:2.0
PRODID:-//River Valley Cycling - ECPv6.15.20//NONSGML v1.0//EN
CALSCALE:GREGORIAN
METHOD:PUBLISH
X-ORIGINAL-URL:https://rivervalleycycling.com
X-WR-CALDESC:Events for River Valley Cycling
REFRESH-INTERVAL;VALUE=DURATION:PT1H
X-Robots-Tag:noindex
X-PUBLISHED-TTL:PT1H
BEGIN:VTIMEZONE
TZID:America/Moncton
BEGIN:DAYLIGHT
TZOFFSETFROM:-0400
TZOFFSETTO:-0300
TZNAME:ADT
DTSTART:20140309T060000
END:DAYLIGHT
BEGIN:STANDARD
TZOFFSETFROM:-0300
TZOFFSETTO:-0400
TZNAME:AST
DTSTART:20141102T050000
END:STANDARD
BEGIN:DAYLIGHT
TZOFFSETFROM:-0400
TZOFFSETTO:-0300
TZNAME:ADT
DTSTART:20150308T060000
END:DAYLIGHT
BEGIN:STANDARD
TZOFFSETFROM:-0300
TZOFFSETTO:-0400
TZNAME:AST
DTSTART:20151101T050000
END:STANDARD
BEGIN:DAYLIGHT
TZOFFSETFROM:-0400
TZOFFSETTO:-0300
TZNAME:ADT
DTSTART:20160313T060000
END:DAYLIGHT
BEGIN:STANDARD
TZOFFSETFROM:-0300
TZOFFSETTO:-0400
TZNAME:AST
DTSTART:20161106T050000
END:STANDARD
END:VTIMEZONE
BEGIN:VEVENT
DTSTART;TZID=America/Moncton:20150216T070000
DTEND;TZID=America/Moncton:20150216T210000
DTSTAMP:20260423T224755
CREATED:20150410T145510Z
LAST-MODIFIED:20150410T145510Z
UID:220-1424070000-1424120400@rivervalleycycling.com
SUMMARY:RVC Annual General Meeting
DESCRIPTION:Open to the Public.
URL:https://rivervalleycycling.com/event/rvc-annual-general-meeting/
LOCATION:Willie O’Ree Place\, Mabie Lane\, Fredericton\, New Brunswick\, Canada
CATEGORIES:RVC Administrative
END:VEVENT
END:VCALENDAR